Package: GSEAmining Version: 1.14.0 Command: /Library/Frameworks/R.framework/Resources/bin/R CMD build --keep-empty-dirs --no-resave-data GSEAmining StartedAt: 2024-06-09 22:38:52 -0400 (Sun, 09 Jun 2024) EndedAt: 2024-06-09 22:40:01 -0400 (Sun, 09 Jun 2024) EllapsedTime: 69.3 seconds RetCode: 0 Status: OK PackageFile: GSEAmining_1.14.0.tar.gz PackageFileSize: 2.84 MiB