Package: GSEAmining Version: 1.14.0 Command: /Library/Frameworks/R.framework/Resources/bin/R CMD check --install=check:GSEAmining.install-out.txt --library=/Library/Frameworks/R.framework/Resources/library --no-vignettes --timings GSEAmining_1.14.0.tar.gz StartedAt: 2024-10-18 00:01:35 -0400 (Fri, 18 Oct 2024) EndedAt: 2024-10-18 00:03:28 -0400 (Fri, 18 Oct 2024) EllapsedTime: 113.1 seconds RetCode: 0 Status: OK CheckDir: GSEAmining.Rcheck Warnings: 0