Package: GSEAlm Version: 1.64.0 Command: chmod a+r GSEAlm -R && E:\biocbuild\bbs-3.19-bioc\R\bin\R.exe CMD build --keep-empty-dirs --no-resave-data GSEAlm StartedAt: 2024-10-16 19:35:36 -0400 (Wed, 16 Oct 2024) EndedAt: 2024-10-16 19:36:35 -0400 (Wed, 16 Oct 2024) EllapsedTime: 59.4 seconds RetCode: 0 Status: OK PackageFile: GSEAlm_1.64.0.tar.gz PackageFileSize: 947.5 KiB