Package: GSEAlm Version: 1.64.0 Command: rm -rf GSEAlm.buildbin-libdir && mkdir GSEAlm.buildbin-libdir && E:\biocbuild\bbs-3.19-bioc\R\bin\R.exe CMD INSTALL --build --library=GSEAlm.buildbin-libdir GSEAlm_1.64.0.tar.gz StartedAt: 2024-10-17 07:55:30 -0400 (Thu, 17 Oct 2024) EndedAt: 2024-10-17 07:55:36 -0400 (Thu, 17 Oct 2024) EllapsedTime: 6.5 seconds RetCode: 0 Status: OK PackageFile: GSEAlm_1.64.0.zip PackageFileSize: 939.4 KiB