Package: GSEAlm Version: 1.64.0 Command: chmod a+r GSEAlm -R && F:\biocbuild\bbs-3.19-bioc\R\bin\R.exe CMD build --keep-empty-dirs --no-resave-data GSEAlm StartedAt: 2024-06-26 19:22:14 -0400 (Wed, 26 Jun 2024) EndedAt: 2024-06-26 19:23:17 -0400 (Wed, 26 Jun 2024) EllapsedTime: 63.4 seconds RetCode: 0 Status: OK PackageFile: GSEAlm_1.64.0.tar.gz PackageFileSize: 946.9 KiB