Package: GSEAlm Version: 1.64.0 Command: /home/biocbuild/bbs-3.19-bioc/R/bin/R CMD build --keep-empty-dirs --no-resave-data GSEAlm StartedAt: 2024-10-16 18:52:06 -0400 (Wed, 16 Oct 2024) EndedAt: 2024-10-16 18:52:51 -0400 (Wed, 16 Oct 2024) EllapsedTime: 45.1 seconds RetCode: 0 Status: OK PackageFile: GSEAlm_1.64.0.tar.gz PackageFileSize: 942.2 KiB