Package: GSEAlm Version: 1.64.0 Command: /Library/Frameworks/R.framework/Resources/bin/R CMD check --install=check:GSEAlm.install-out.txt --library=/Library/Frameworks/R.framework/Resources/library --no-vignettes --timings GSEAlm_1.64.0.tar.gz StartedAt: 2024-10-17 06:24:17 -0400 (Thu, 17 Oct 2024) EndedAt: 2024-10-17 06:25:15 -0400 (Thu, 17 Oct 2024) EllapsedTime: 58.3 seconds RetCode: 0 Status: OK CheckDir: GSEAlm.Rcheck Warnings: 0