Package: GSEAlm Version: 1.64.0 Command: /Library/Frameworks/R.framework/Resources/bin/R CMD build --keep-empty-dirs --no-resave-data GSEAlm StartedAt: 2024-10-16 19:49:57 -0400 (Wed, 16 Oct 2024) EndedAt: 2024-10-16 19:52:06 -0400 (Wed, 16 Oct 2024) EllapsedTime: 129.2 seconds RetCode: 0 Status: OK PackageFile: GSEAlm_1.64.0.tar.gz PackageFileSize: 1.245 MiB