Package: GSEAlm Version: 1.64.0 Command: /home/biocbuild/R/R-beta-2024-04-15_r86425/bin/R CMD check --install=check:GSEAlm.install-out.txt --library=/home/biocbuild/R/R-beta-2024-04-15_r86425/site-library --no-vignettes --timings GSEAlm_1.64.0.tar.gz StartedAt: 2024-05-09 08:08:56 -0000 (Thu, 09 May 2024) EndedAt: 2024-05-09 08:09:21 -0000 (Thu, 09 May 2024) EllapsedTime: 25.0 seconds RetCode: 0 Status: OK CheckDir: GSEAlm.Rcheck Warnings: 0