Package: GSEAlm Version: 1.64.0 Command: /Library/Frameworks/R.framework/Resources/bin/R CMD build --keep-empty-dirs --no-resave-data GSEAlm StartedAt: 2024-10-17 01:57:56 -0400 (Thu, 17 Oct 2024) EndedAt: 2024-10-17 01:58:50 -0400 (Thu, 17 Oct 2024) EllapsedTime: 54.6 seconds RetCode: 0 Status: OK PackageFile: GSEAlm_1.64.0.tar.gz PackageFileSize: 1.243 MiB