Package: GSEABenchmarkeR Version: 1.24.0 Command: chmod a+r GSEABenchmarkeR -R && E:\biocbuild\bbs-3.19-bioc\R\bin\R.exe CMD build --keep-empty-dirs --no-resave-data GSEABenchmarkeR StartedAt: 2024-10-16 19:35:28 -0400 (Wed, 16 Oct 2024) EndedAt: 2024-10-16 19:38:58 -0400 (Wed, 16 Oct 2024) EllapsedTime: 210.7 seconds RetCode: 0 Status: OK PackageFile: GSEABenchmarkeR_1.24.0.tar.gz PackageFileSize: 514.1 KiB