Package: GSEABenchmarkeR Version: 1.24.0 Command: rm -rf GSEABenchmarkeR.buildbin-libdir && mkdir GSEABenchmarkeR.buildbin-libdir && E:\biocbuild\bbs-3.19-bioc\R\bin\R.exe CMD INSTALL --build --library=GSEABenchmarkeR.buildbin-libdir GSEABenchmarkeR_1.24.0.tar.gz StartedAt: 2024-10-17 07:55:28 -0400 (Thu, 17 Oct 2024) EndedAt: 2024-10-17 07:57:18 -0400 (Thu, 17 Oct 2024) EllapsedTime: 109.8 seconds RetCode: 0 Status: OK PackageFile: GSEABenchmarkeR_1.24.0.zip PackageFileSize: 628.9 KiB