Package: GSEABenchmarkeR Version: 1.24.0 Command: /Library/Frameworks/R.framework/Resources/bin/R CMD build --keep-empty-dirs --no-resave-data GSEABenchmarkeR StartedAt: 2024-10-16 19:49:03 -0400 (Wed, 16 Oct 2024) EndedAt: 2024-10-16 19:53:43 -0400 (Wed, 16 Oct 2024) EllapsedTime: 279.8 seconds RetCode: 0 Status: OK PackageFile: GSEABenchmarkeR_1.24.0.tar.gz PackageFileSize: 567.1 KiB