Package: GSEABase Version: 1.66.0 Command: E:\biocbuild\bbs-3.19-bioc\R\bin\R.exe CMD INSTALL GSEABase StartedAt: 2024-10-16 16:20:15 -0400 (Wed, 16 Oct 2024) EndedAt: 2024-10-16 16:21:11 -0400 (Wed, 16 Oct 2024) EllapsedTime: 55.9 seconds RetCode: 0 Status: OK