Package: GSEABase Version: 1.66.0 Command: /home/biocbuild/bbs-3.19-bioc/R/bin/R CMD build --keep-empty-dirs --no-resave-data GSEABase StartedAt: 2024-10-16 18:52:03 -0400 (Wed, 16 Oct 2024) EndedAt: 2024-10-16 18:53:13 -0400 (Wed, 16 Oct 2024) EllapsedTime: 70.2 seconds RetCode: 0 Status: OK PackageFile: GSEABase_1.66.0.tar.gz PackageFileSize: 292.5 KiB