Package: GSCA Version: 2.34.0 Command: chmod a+r GSCA -R && E:\biocbuild\bbs-3.19-bioc\R\bin\R.exe CMD build --keep-empty-dirs --no-resave-data GSCA StartedAt: 2024-10-16 19:35:09 -0400 (Wed, 16 Oct 2024) EndedAt: 2024-10-16 19:35:36 -0400 (Wed, 16 Oct 2024) EllapsedTime: 26.8 seconds RetCode: 0 Status: OK PackageFile: GSCA_2.34.0.tar.gz PackageFileSize: 2.187 MiB