Package: GSCA Version: 2.34.0 Command: rm -rf GSCA.buildbin-libdir && mkdir GSCA.buildbin-libdir && E:\biocbuild\bbs-3.19-bioc\R\bin\R.exe CMD INSTALL --build --library=GSCA.buildbin-libdir GSCA_2.34.0.tar.gz StartedAt: 2024-10-17 07:55:23 -0400 (Thu, 17 Oct 2024) EndedAt: 2024-10-17 07:55:35 -0400 (Thu, 17 Oct 2024) EllapsedTime: 12.1 seconds RetCode: 0 Status: OK PackageFile: GSCA_2.34.0.zip PackageFileSize: 2.246 MiB