Package: GSCA Version: 2.34.0 Command: /home/biocbuild/bbs-3.19-bioc/R/bin/R CMD check --install=check:GSCA.install-out.txt --library=/home/biocbuild/bbs-3.19-bioc/R/site-library --timings GSCA_2.34.0.tar.gz StartedAt: 2024-10-17 01:09:32 -0400 (Thu, 17 Oct 2024) EndedAt: 2024-10-17 01:12:11 -0400 (Thu, 17 Oct 2024) EllapsedTime: 158.3 seconds RetCode: 0 Status: OK CheckDir: GSCA.Rcheck Warnings: 0