Package: GSCA Version: 2.34.0 Command: rm -rf GSCA.buildbin-libdir && mkdir GSCA.buildbin-libdir && /Users/biocbuild/BBS/utils/build-universal.sh GSCA_2.34.0.tar.gz /Library/Frameworks/R.framework/Resources/bin/R GSCA.buildbin-libdir StartedAt: 2024-06-11 11:31:26 -0400 (Tue, 11 Jun 2024) EndedAt: 2024-06-11 11:31:41 -0400 (Tue, 11 Jun 2024) EllapsedTime: 15.3 seconds RetCode: 0 Status: OK PackageFile: GSCA_2.34.0.tgz PackageFileSize: 2.347 MiB