Package: GSCA Version: 2.34.0 Command: /Library/Frameworks/R.framework/Resources/bin/R CMD INSTALL GSCA StartedAt: 2024-10-16 17:14:57 -0400 (Wed, 16 Oct 2024) EndedAt: 2024-10-16 17:15:04 -0400 (Wed, 16 Oct 2024) EllapsedTime: 7.0 seconds RetCode: 0 Status: OK