Package: GSAR Version: 1.38.0 Command: chmod a+r GSAR -R && E:\biocbuild\bbs-3.19-bioc\R\bin\R.exe CMD build --keep-empty-dirs --no-resave-data GSAR StartedAt: 2024-10-16 19:34:44 -0400 (Wed, 16 Oct 2024) EndedAt: 2024-10-16 19:40:37 -0400 (Wed, 16 Oct 2024) EllapsedTime: 353.2 seconds RetCode: 0 Status: OK PackageFile: GSAR_1.38.0.tar.gz PackageFileSize: 2.089 MiB