Package: GSAR Version: 1.38.0 Command: rm -rf GSAR.buildbin-libdir && mkdir GSAR.buildbin-libdir && E:\biocbuild\bbs-3.19-bioc\R\bin\R.exe CMD INSTALL --build --library=GSAR.buildbin-libdir GSAR_1.38.0.tar.gz StartedAt: 2024-10-17 07:55:21 -0400 (Thu, 17 Oct 2024) EndedAt: 2024-10-17 07:55:30 -0400 (Thu, 17 Oct 2024) EllapsedTime: 8.7 seconds RetCode: 0 Status: OK PackageFile: GSAR_1.38.0.zip PackageFileSize: 3.527 MiB