Package: GSAR Version: 1.38.0 Command: chmod a+r GSAR -R && F:\biocbuild\bbs-3.19-bioc\R\bin\R.exe CMD build --keep-empty-dirs --no-resave-data GSAR StartedAt: 2024-06-26 19:21:27 -0400 (Wed, 26 Jun 2024) EndedAt: 2024-06-26 19:27:23 -0400 (Wed, 26 Jun 2024) EllapsedTime: 356.5 seconds RetCode: 0 Status: OK PackageFile: GSAR_1.38.0.tar.gz PackageFileSize: 2.088 MiB