Package: GSAR Version: 1.38.0 Command: /home/biocbuild/bbs-3.19-bioc/R/bin/R CMD INSTALL GSAR StartedAt: 2024-10-16 15:50:49 -0400 (Wed, 16 Oct 2024) EndedAt: 2024-10-16 15:50:57 -0400 (Wed, 16 Oct 2024) EllapsedTime: 7.9 seconds RetCode: 0 Status: OK