Package: GSAR Version: 1.38.0 Command: /home/biocbuild/bbs-3.19-bioc/R/bin/R CMD build --keep-empty-dirs --no-resave-data GSAR StartedAt: 2024-10-16 18:51:41 -0400 (Wed, 16 Oct 2024) EndedAt: 2024-10-16 18:57:22 -0400 (Wed, 16 Oct 2024) EllapsedTime: 340.7 seconds RetCode: 0 Status: OK PackageFile: GSAR_1.38.0.tar.gz PackageFileSize: 2.083 MiB