Package: GSAR Version: 1.38.0 Command: /Library/Frameworks/R.framework/Resources/bin/R CMD INSTALL GSAR StartedAt: 2024-10-16 15:08:21 -0400 (Wed, 16 Oct 2024) EndedAt: 2024-10-16 15:08:37 -0400 (Wed, 16 Oct 2024) EllapsedTime: 15.8 seconds RetCode: 0 Status: OK