Package: GSAR Version: 1.38.0 Command: /Library/Frameworks/R.framework/Resources/bin/R CMD check --install=check:GSAR.install-out.txt --library=/Library/Frameworks/R.framework/Resources/library --no-vignettes --timings GSAR_1.38.0.tar.gz StartedAt: 2024-10-17 06:22:48 -0400 (Thu, 17 Oct 2024) EndedAt: 2024-10-17 06:24:17 -0400 (Thu, 17 Oct 2024) EllapsedTime: 88.6 seconds RetCode: 0 Status: OK CheckDir: GSAR.Rcheck Warnings: 0