Package: GSAR Version: 1.38.0 Command: /Library/Frameworks/R.framework/Resources/bin/R CMD build --keep-empty-dirs --no-resave-data GSAR StartedAt: 2024-10-16 19:48:13 -0400 (Wed, 16 Oct 2024) EndedAt: 2024-10-16 19:59:38 -0400 (Wed, 16 Oct 2024) EllapsedTime: 684.4 seconds RetCode: 0 Status: OK PackageFile: GSAR_1.38.0.tar.gz PackageFileSize: 2.209 MiB