Package: GSAR Version: 1.38.0 Command: /Library/Frameworks/R.framework/Resources/bin/R CMD build --keep-empty-dirs --no-resave-data GSAR StartedAt: 2024-06-09 16:52:30 -0400 (Sun, 09 Jun 2024) EndedAt: 2024-06-09 16:58:08 -0400 (Sun, 09 Jun 2024) EllapsedTime: 338.3 seconds RetCode: 0 Status: OK PackageFile: GSAR_1.38.0.tar.gz PackageFileSize: 2.209 MiB