Package: GSAR Version: 1.38.0 Command: rm -rf GSAR.buildbin-libdir && mkdir GSAR.buildbin-libdir && /Users/biocbuild/BBS/utils/build-universal.sh GSAR_1.38.0.tar.gz /Library/Frameworks/R.framework/Resources/bin/R GSAR.buildbin-libdir StartedAt: 2024-10-18 18:50:12 -0400 (Fri, 18 Oct 2024) EndedAt: 2024-10-18 18:50:20 -0400 (Fri, 18 Oct 2024) EllapsedTime: 8.0 seconds RetCode: 0 Status: OK PackageFile: GSAR_1.38.0.tgz PackageFileSize: 3.651 MiB