Package: GSALightning Version: 1.32.0 Command: E:\biocbuild\bbs-3.19-bioc\R\bin\R.exe CMD INSTALL GSALightning StartedAt: 2024-10-16 15:59:34 -0400 (Wed, 16 Oct 2024) EndedAt: 2024-10-16 16:00:00 -0400 (Wed, 16 Oct 2024) EllapsedTime: 25.8 seconds RetCode: 0 Status: OK