Package: GSALightning Version: 1.32.0 Command: rm -rf GSALightning.buildbin-libdir && mkdir GSALightning.buildbin-libdir && E:\biocbuild\bbs-3.19-bioc\R\bin\R.exe CMD INSTALL --build --library=GSALightning.buildbin-libdir GSALightning_1.32.0.tar.gz StartedAt: 2024-10-17 07:55:19 -0400 (Thu, 17 Oct 2024) EndedAt: 2024-10-17 07:55:45 -0400 (Thu, 17 Oct 2024) EllapsedTime: 25.1 seconds RetCode: 0 Status: OK PackageFile: GSALightning_1.32.0.zip PackageFileSize: 4.26 MiB