Package: GSALightning Version: 1.32.0 Command: chmod a+r GSALightning -R && F:\biocbuild\bbs-3.19-bioc\R\bin\R.exe CMD build --keep-empty-dirs --no-resave-data GSALightning StartedAt: 2024-06-26 19:21:11 -0400 (Wed, 26 Jun 2024) EndedAt: 2024-06-26 19:22:54 -0400 (Wed, 26 Jun 2024) EllapsedTime: 102.9 seconds RetCode: 0 Status: OK PackageFile: GSALightning_1.32.0.tar.gz PackageFileSize: 4.222 MiB