Package: GSALightning Version: 1.32.0 Command: rm -rf GSALightning.buildbin-libdir && mkdir GSALightning.buildbin-libdir && F:\biocbuild\bbs-3.19-bioc\R\bin\R.exe CMD INSTALL --build --library=GSALightning.buildbin-libdir GSALightning_1.32.0.tar.gz StartedAt: 2024-06-27 08:19:31 -0400 (Thu, 27 Jun 2024) EndedAt: 2024-06-27 08:19:43 -0400 (Thu, 27 Jun 2024) EllapsedTime: 12.0 seconds RetCode: 0 Status: OK PackageFile: GSALightning_1.32.0.zip PackageFileSize: 4.26 MiB