Package: GSALightning Version: 1.32.0 Command: /Library/Frameworks/R.framework/Resources/bin/R CMD INSTALL GSALightning StartedAt: 2024-10-16 15:06:28 -0400 (Wed, 16 Oct 2024) EndedAt: 2024-10-16 15:06:51 -0400 (Wed, 16 Oct 2024) EllapsedTime: 23.3 seconds RetCode: 0 Status: OK