Package: GSALightning Version: 1.32.0 Command: /Library/Frameworks/R.framework/Resources/bin/R CMD build --keep-empty-dirs --no-resave-data GSALightning StartedAt: 2024-06-09 16:52:18 -0400 (Sun, 09 Jun 2024) EndedAt: 2024-06-09 16:53:32 -0400 (Sun, 09 Jun 2024) EllapsedTime: 74.4 seconds RetCode: 0 Status: OK PackageFile: GSALightning_1.32.0.tar.gz PackageFileSize: 4.271 MiB