Package: GSALightning Version: 1.32.0 Command: /home/biocbuild/R/R-beta-2024-04-15_r86425/bin/R CMD build --keep-empty-dirs --no-resave-data GSALightning StartedAt: 2024-05-09 00:48:50 -0000 (Thu, 09 May 2024) EndedAt: 2024-05-09 00:50:36 -0000 (Thu, 09 May 2024) EllapsedTime: 106.1 seconds RetCode: 0 Status: OK PackageFile: GSALightning_1.32.0.tar.gz PackageFileSize: 4.251 MiB