Package: GSALightning Version: 1.32.0 Command: /Library/Frameworks/R.framework/Resources/bin/R CMD check --install=check:GSALightning.install-out.txt --library=/Library/Frameworks/R.framework/Resources/library --no-vignettes --timings GSALightning_1.32.0.tar.gz StartedAt: 2024-10-17 23:58:02 -0400 (Thu, 17 Oct 2024) EndedAt: 2024-10-17 23:58:59 -0400 (Thu, 17 Oct 2024) EllapsedTime: 57.6 seconds RetCode: 0 Status: OK CheckDir: GSALightning.Rcheck Warnings: 0