Package: GSALightning Version: 1.32.0 Command: /Library/Frameworks/R.framework/Resources/bin/R CMD build --keep-empty-dirs --no-resave-data GSALightning StartedAt: 2024-10-17 01:53:33 -0400 (Thu, 17 Oct 2024) EndedAt: 2024-10-17 01:55:10 -0400 (Thu, 17 Oct 2024) EllapsedTime: 97.0 seconds RetCode: 0 Status: OK PackageFile: GSALightning_1.32.0.tar.gz PackageFileSize: 4.271 MiB