Package: GSALightning Version: 1.32.0 Command: rm -rf GSALightning.buildbin-libdir && mkdir GSALightning.buildbin-libdir && /Users/biocbuild/BBS/utils/build-universal.sh GSALightning_1.32.0.tar.gz /Library/Frameworks/R.framework/Resources/bin/R GSALightning.buildbin-libdir StartedAt: 2024-10-18 18:50:02 -0400 (Fri, 18 Oct 2024) EndedAt: 2024-10-18 18:50:12 -0400 (Fri, 18 Oct 2024) EllapsedTime: 10.0 seconds RetCode: 0 Status: OK PackageFile: GSALightning_1.32.0.tgz PackageFileSize: 4.305 MiB