Package: GSALightning Version: 1.32.0 Maintainer: Billy Heung Wing Chang MaintainerEmail: billyheungwing at gmail.com git_url: https://git.bioconductor.org/packages/GSALightning git_branch: RELEASE_3_19 git_last_commit: faff12f git_last_commit_date: 2024-04-30 10:47:34 -0400 (Tue, 30 Apr 2024)