Package: GRmetrics Version: 1.30.0 Command: E:\biocbuild\bbs-3.19-bioc\R\bin\R.exe CMD INSTALL GRmetrics StartedAt: 2024-10-16 17:00:51 -0400 (Wed, 16 Oct 2024) EndedAt: 2024-10-16 17:01:16 -0400 (Wed, 16 Oct 2024) EllapsedTime: 24.9 seconds RetCode: 0 Status: OK