Package: GRmetrics Version: 1.30.0 Command: rm -rf GRmetrics.buildbin-libdir && mkdir GRmetrics.buildbin-libdir && E:\biocbuild\bbs-3.19-bioc\R\bin\R.exe CMD INSTALL --build --library=GRmetrics.buildbin-libdir GRmetrics_1.30.0.tar.gz StartedAt: 2024-10-17 07:55:15 -0400 (Thu, 17 Oct 2024) EndedAt: 2024-10-17 07:55:48 -0400 (Thu, 17 Oct 2024) EllapsedTime: 32.8 seconds RetCode: 0 Status: OK PackageFile: GRmetrics_1.30.0.zip PackageFileSize: 1.683 MiB