Package: GRmetrics Version: 1.30.0 Command: /home/biocbuild/bbs-3.19-bioc/R/bin/R CMD check --install=check:GRmetrics.install-out.txt --library=/home/biocbuild/bbs-3.19-bioc/R/site-library --timings GRmetrics_1.30.0.tar.gz StartedAt: 2024-10-17 01:09:02 -0400 (Thu, 17 Oct 2024) EndedAt: 2024-10-17 01:11:31 -0400 (Thu, 17 Oct 2024) EllapsedTime: 148.3 seconds RetCode: 0 Status: OK CheckDir: GRmetrics.Rcheck Warnings: 0