Package: GRmetrics Version: 1.30.0 Command: /home/biocbuild/bbs-3.19-bioc/R/bin/R CMD build --keep-empty-dirs --no-resave-data GRmetrics StartedAt: 2024-10-16 18:51:18 -0400 (Wed, 16 Oct 2024) EndedAt: 2024-10-16 18:52:03 -0400 (Wed, 16 Oct 2024) EllapsedTime: 45.1 seconds RetCode: 0 Status: OK PackageFile: GRmetrics_1.30.0.tar.gz PackageFileSize: 1.882 MiB