Package: GRmetrics Version: 1.30.0 Command: /home/biocbuild/R/R-beta-2024-04-15_r86425/bin/R CMD build --keep-empty-dirs --no-resave-data GRmetrics StartedAt: 2024-05-09 00:47:51 -0000 (Thu, 09 May 2024) EndedAt: 2024-05-09 00:48:56 -0000 (Thu, 09 May 2024) EllapsedTime: 65.1 seconds RetCode: 0 Status: OK PackageFile: GRmetrics_1.30.0.tar.gz PackageFileSize: 2.246 MiB