Package: GRmetrics Version: 1.30.0 Command: /Library/Frameworks/R.framework/Resources/bin/R CMD INSTALL GRmetrics StartedAt: 2024-10-16 18:01:26 -0400 (Wed, 16 Oct 2024) EndedAt: 2024-10-16 18:01:52 -0400 (Wed, 16 Oct 2024) EllapsedTime: 25.4 seconds RetCode: 0 Status: OK