Package: GRaNIE Version: 1.8.0 Command: E:\biocbuild\bbs-3.19-bioc\R\bin\R.exe CMD INSTALL GRaNIE StartedAt: 2024-10-16 16:41:28 -0400 (Wed, 16 Oct 2024) EndedAt: 2024-10-16 16:42:33 -0400 (Wed, 16 Oct 2024) EllapsedTime: 65.4 seconds RetCode: 0 Status: OK