Package: GRaNIE Version: 1.8.0 Command: rm -rf GRaNIE.buildbin-libdir && mkdir GRaNIE.buildbin-libdir && E:\biocbuild\bbs-3.19-bioc\R\bin\R.exe CMD INSTALL --build --library=GRaNIE.buildbin-libdir GRaNIE_1.8.0.tar.gz StartedAt: 2024-10-17 07:54:56 -0400 (Thu, 17 Oct 2024) EndedAt: 2024-10-17 07:56:24 -0400 (Thu, 17 Oct 2024) EllapsedTime: 88.2 seconds RetCode: 0 Status: OK PackageFile: GRaNIE_1.8.0.zip PackageFileSize: 4.657 MiB