Package: GRaNIE Version: 1.8.0 Command: rm -rf GRaNIE.buildbin-libdir && mkdir GRaNIE.buildbin-libdir && /Users/biocbuild/BBS/utils/build-universal.sh GRaNIE_1.8.0.tar.gz /Library/Frameworks/R.framework/Resources/bin/R GRaNIE.buildbin-libdir StartedAt: 2024-06-10 00:21:07 -0400 (Mon, 10 Jun 2024) EndedAt: 2024-06-10 00:22:17 -0400 (Mon, 10 Jun 2024) EllapsedTime: 70.0 seconds RetCode: 0 Status: OK PackageFile: GRaNIE_1.8.0.tgz PackageFileSize: 9.053 MiB